BEGIN:VCALENDAR
VERSION:2.0
PRODID:-//SoulSingerBea - ECPv6.15.20//NONSGML v1.0//EN
CALSCALE:GREGORIAN
METHOD:PUBLISH
X-WR-CALNAME:SoulSingerBea
X-ORIGINAL-URL:https://soulsingerbea.com
X-WR-CALDESC:Veranstaltungen für SoulSingerBea
REFRESH-INTERVAL;VALUE=DURATION:PT1H
X-Robots-Tag:noindex
X-PUBLISHED-TTL:PT1H
BEGIN:VTIMEZONE
TZID:Europe/Zurich
BEGIN:DAYLIGHT
TZOFFSETFROM:+0100
TZOFFSETTO:+0200
TZNAME:CEST
DTSTART:20250330T010000
END:DAYLIGHT
BEGIN:STANDARD
TZOFFSETFROM:+0200
TZOFFSETTO:+0100
TZNAME:CET
DTSTART:20251026T010000
END:STANDARD
BEGIN:DAYLIGHT
TZOFFSETFROM:+0100
TZOFFSETTO:+0200
TZNAME:CEST
DTSTART:20260329T010000
END:DAYLIGHT
BEGIN:STANDARD
TZOFFSETFROM:+0200
TZOFFSETTO:+0100
TZNAME:CET
DTSTART:20261025T010000
END:STANDARD
BEGIN:DAYLIGHT
TZOFFSETFROM:+0100
TZOFFSETTO:+0200
TZNAME:CEST
DTSTART:20270328T010000
END:DAYLIGHT
BEGIN:STANDARD
TZOFFSETFROM:+0200
TZOFFSETTO:+0100
TZNAME:CET
DTSTART:20271031T010000
END:STANDARD
END:VTIMEZONE
BEGIN:VEVENT
DTSTART;TZID=Europe/Zurich:20261106T203000
DTEND;TZID=Europe/Zurich:20261106T203000
DTSTAMP:20260423T222536
CREATED:20260421T171020Z
LAST-MODIFIED:20260421T171037Z
UID:1633-1793997000-1793997000@soulsingerbea.com
SUMMARY:Konzert im Heaven's Pub Himmeried
DESCRIPTION:SoulSingerBea im Heaven’s Pub Himmelried – ein Abend\, der ans Herz geht! \n  \nTüröffnung: 20 Uhr \nInformationen zur Location: heavens-himmelried.ch
URL:https://soulsingerbea.com/event/heavens-pub-himmeried/
LOCATION:Heavens Pub\, Waldeck 95\, Himmelried\, 4204\, Switzerland
ATTACH;FMTTYPE=image/png:https://soulsingerbea.com/wp-content/uploads/2025/08/logo-bea-e1754842593889.png
END:VEVENT
END:VCALENDAR