BEGIN:VCALENDAR
VERSION:2.0
PRODID:-//SoulSingerBea - ECPv6.15.20//NONSGML v1.0//EN
CALSCALE:GREGORIAN
METHOD:PUBLISH
X-ORIGINAL-URL:https://soulsingerbea.com
X-WR-CALDESC:Veranstaltungen für SoulSingerBea
REFRESH-INTERVAL;VALUE=DURATION:PT1H
X-Robots-Tag:noindex
X-PUBLISHED-TTL:PT1H
BEGIN:VTIMEZONE
TZID:Europe/Zurich
BEGIN:DAYLIGHT
TZOFFSETFROM:+0100
TZOFFSETTO:+0200
TZNAME:CEST
DTSTART:20250330T010000
END:DAYLIGHT
BEGIN:STANDARD
TZOFFSETFROM:+0200
TZOFFSETTO:+0100
TZNAME:CET
DTSTART:20251026T010000
END:STANDARD
BEGIN:DAYLIGHT
TZOFFSETFROM:+0100
TZOFFSETTO:+0200
TZNAME:CEST
DTSTART:20260329T010000
END:DAYLIGHT
BEGIN:STANDARD
TZOFFSETFROM:+0200
TZOFFSETTO:+0100
TZNAME:CET
DTSTART:20261025T010000
END:STANDARD
BEGIN:DAYLIGHT
TZOFFSETFROM:+0100
TZOFFSETTO:+0200
TZNAME:CEST
DTSTART:20270328T010000
END:DAYLIGHT
BEGIN:STANDARD
TZOFFSETFROM:+0200
TZOFFSETTO:+0100
TZNAME:CET
DTSTART:20271031T010000
END:STANDARD
END:VTIMEZONE
BEGIN:VEVENT
DTSTART;TZID=Europe/Zurich:20260904T190000
DTEND;TZID=Europe/Zurich:20260904T230000
DTSTAMP:20260423T191721
CREATED:20260129T151842Z
LAST-MODIFIED:20260421T171133Z
UID:1486-1788548400-1788562800@soulsingerbea.com
SUMMARY:Dorf Jazz Allschwil
DESCRIPTION:Auftritt von Georgy’s Big Band feat. Bea Schneider im Rahmen des „Dorf Jazz Allschwil 2026“ \nVerschiedene Bands sorgen einmal im Jahr jazzige Stimmung im Dorfkern von Allschwil\, alle Informationen auf dorfjazz.ch.
URL:https://soulsingerbea.com/event/dorf-jazz-allschwil/
LOCATION:Dorfkern Allschwil\, Dorfplatz\, Allschwil\, 4123\, Switzerland
ATTACH;FMTTYPE=image/png:https://soulsingerbea.com/wp-content/uploads/2025/08/logo-big-band-e1754840332347.png
END:VEVENT
END:VCALENDAR