BEGIN:VCALENDAR
VERSION:2.0
PRODID:-//SoulSingerBea - ECPv6.15.20//NONSGML v1.0//EN
CALSCALE:GREGORIAN
METHOD:PUBLISH
X-WR-CALNAME:SoulSingerBea
X-ORIGINAL-URL:https://soulsingerbea.com
X-WR-CALDESC:Veranstaltungen für SoulSingerBea
REFRESH-INTERVAL;VALUE=DURATION:PT1H
X-Robots-Tag:noindex
X-PUBLISHED-TTL:PT1H
BEGIN:VTIMEZONE
TZID:Europe/Zurich
BEGIN:DAYLIGHT
TZOFFSETFROM:+0100
TZOFFSETTO:+0200
TZNAME:CEST
DTSTART:20250330T010000
END:DAYLIGHT
BEGIN:STANDARD
TZOFFSETFROM:+0200
TZOFFSETTO:+0100
TZNAME:CET
DTSTART:20251026T010000
END:STANDARD
BEGIN:DAYLIGHT
TZOFFSETFROM:+0100
TZOFFSETTO:+0200
TZNAME:CEST
DTSTART:20260329T010000
END:DAYLIGHT
BEGIN:STANDARD
TZOFFSETFROM:+0200
TZOFFSETTO:+0100
TZNAME:CET
DTSTART:20261025T010000
END:STANDARD
BEGIN:DAYLIGHT
TZOFFSETFROM:+0100
TZOFFSETTO:+0200
TZNAME:CEST
DTSTART:20270328T010000
END:DAYLIGHT
BEGIN:STANDARD
TZOFFSETFROM:+0200
TZOFFSETTO:+0100
TZNAME:CET
DTSTART:20271031T010000
END:STANDARD
END:VTIMEZONE
BEGIN:VEVENT
DTSTART;VALUE=DATE:20260425
DTEND;VALUE=DATE:20260426
DTSTAMP:20260425T014507
CREATED:20260421T161818Z
LAST-MODIFIED:20260422T104012Z
UID:1613-1777075200-1777161599@soulsingerbea.com
SUMMARY:Walkewegfest: Konzert mit SoulSingerBea
DESCRIPTION:Nachbarschaftsfest mit Bar – Feuer – Pizza – Trampolin! \n18:30 Uhr: Konzert mit SoulSingerBea! \nKindernachmittag ab 15 Uhr\nDesserts sind herzlich willkommen 🙂 \n \n 
URL:https://soulsingerbea.com/event/walkewegfest-mit-soulsingerbea/
LOCATION:Walkeweg\, Walkeweg\, Basel\, Switzerland
ATTACH;FMTTYPE=image/png:https://soulsingerbea.com/wp-content/uploads/2025/08/logo-bea-e1754842593889.png
END:VEVENT
END:VCALENDAR