BEGIN:VCALENDAR
VERSION:2.0
PRODID:-//SoulSingerBea - ECPv6.15.20//NONSGML v1.0//EN
CALSCALE:GREGORIAN
METHOD:PUBLISH
X-WR-CALNAME:SoulSingerBea
X-ORIGINAL-URL:https://soulsingerbea.com
X-WR-CALDESC:Veranstaltungen für SoulSingerBea
REFRESH-INTERVAL;VALUE=DURATION:PT1H
X-Robots-Tag:noindex
X-PUBLISHED-TTL:PT1H
BEGIN:VTIMEZONE
TZID:Europe/Zurich
BEGIN:DAYLIGHT
TZOFFSETFROM:+0100
TZOFFSETTO:+0200
TZNAME:CEST
DTSTART:20240331T010000
END:DAYLIGHT
BEGIN:STANDARD
TZOFFSETFROM:+0200
TZOFFSETTO:+0100
TZNAME:CET
DTSTART:20241027T010000
END:STANDARD
BEGIN:DAYLIGHT
TZOFFSETFROM:+0100
TZOFFSETTO:+0200
TZNAME:CEST
DTSTART:20250330T010000
END:DAYLIGHT
BEGIN:STANDARD
TZOFFSETFROM:+0200
TZOFFSETTO:+0100
TZNAME:CET
DTSTART:20251026T010000
END:STANDARD
BEGIN:DAYLIGHT
TZOFFSETFROM:+0100
TZOFFSETTO:+0200
TZNAME:CEST
DTSTART:20260329T010000
END:DAYLIGHT
BEGIN:STANDARD
TZOFFSETFROM:+0200
TZOFFSETTO:+0100
TZNAME:CET
DTSTART:20261025T010000
END:STANDARD
END:VTIMEZONE
BEGIN:VEVENT
DTSTART;TZID=Europe/Zurich:20251219T190000
DTEND;TZID=Europe/Zurich:20251219T190000
DTSTAMP:20260424T091255
CREATED:20251002T191326Z
LAST-MODIFIED:20251114T143817Z
UID:1336-1766170800-1766170800@soulsingerbea.com
SUMMARY:Weihnachtskonzert mit SoulSinger Bea & Guests
DESCRIPTION:Weihnachtliches Konzert mit der Multiinstrumentalistin Bea Schneider: Lassen Sie sich überraschen von SoulSinger Bea & ihren Gästen – und einem Repertoire\, das zum Mitsingen inspiriert!
URL:https://soulsingerbea.com/event/weihnachtskonzert-grindel/
LOCATION:Katholische Kirche Grindel\, Kirchplatz 18\, Grindel\, Switzerland
ATTACH;FMTTYPE=image/png:https://soulsingerbea.com/wp-content/uploads/2025/08/logo-bea-e1754842593889.png
END:VEVENT
END:VCALENDAR